BEGIN:VCALENDAR
VERSION:2.0
PRODID:-//Take Aim Gun Range - ECPv6.15.16//NONSGML v1.0//EN
CALSCALE:GREGORIAN
METHOD:PUBLISH
X-ORIGINAL-URL:https://takeaimgunrange.com
X-WR-CALDESC:Events for Take Aim Gun Range
REFRESH-INTERVAL;VALUE=DURATION:PT1H
X-Robots-Tag:noindex
X-PUBLISHED-TTL:PT1H
BEGIN:VTIMEZONE
TZID:America/New_York
BEGIN:DAYLIGHT
TZOFFSETFROM:-0500
TZOFFSETTO:-0400
TZNAME:EDT
DTSTART:20280312T070000
END:DAYLIGHT
BEGIN:STANDARD
TZOFFSETFROM:-0400
TZOFFSETTO:-0500
TZNAME:EST
DTSTART:20281105T060000
END:STANDARD
BEGIN:DAYLIGHT
TZOFFSETFROM:-0500
TZOFFSETTO:-0400
TZNAME:EDT
DTSTART:20290311T070000
END:DAYLIGHT
BEGIN:STANDARD
TZOFFSETFROM:-0400
TZOFFSETTO:-0500
TZNAME:EST
DTSTART:20291104T060000
END:STANDARD
BEGIN:DAYLIGHT
TZOFFSETFROM:-0500
TZOFFSETTO:-0400
TZNAME:EDT
DTSTART:20300310T070000
END:DAYLIGHT
BEGIN:STANDARD
TZOFFSETFROM:-0400
TZOFFSETTO:-0500
TZNAME:EST
DTSTART:20301103T060000
END:STANDARD
END:VTIMEZONE
BEGIN:VEVENT
DTSTART;VALUE=DATE:20290419
DTEND;VALUE=DATE:20290420
DTSTAMP:20260422T123857
CREATED:20220114T212611Z
LAST-MODIFIED:20220114T212611Z
UID:31696-1871251200-1871337599@takeaimgunrange.com
SUMMARY:Ladies Shoot Free
DESCRIPTION:Come on in and practice your range skills on Thursdays ladies! Range time is FREE for ladies every Thursday!
URL:https://takeaimgunrange.com/event/ladies-shoot-free/2029-04-19/
LOCATION:Take Aim Gun Range\, 1865 61st Street\, Sarasota\, FL\, 34243\, United States
CATEGORIES:Ladies Day
GEO:27.387171;-82.532393
X-APPLE-STRUCTURED-LOCATION;VALUE=URI;X-ADDRESS=Take Aim Gun Range 1865 61st Street Sarasota FL 34243 United States;X-APPLE-RADIUS=500;X-TITLE=1865 61st Street:geo:-82.532393,27.387171
END:VEVENT
END:VCALENDAR